BEGIN:VCALENDAR
VERSION:2.0
PRODID:-//wp-events-plugin.com//7.2.3.1//EN
TZID:Europe/Warsaw
X-WR-TIMEZONE:Europe/Warsaw
BEGIN:VEVENT
UID:26@cyrkarium.com
DTSTART;TZID=Europe/Warsaw:20260411T000000
DTEND;TZID=Europe/Warsaw:20260412T000000
DTSTAMP:20260321T095744Z
URL:https://cyrkarium.com/events/hanne-coeckelberghs-wroclaw/
SUMMARY:Hanne Coeckelberghs
DESCRIPTION:\n\n\n\n\n\nHanne Coeckelberghs\nDynamics &amp\; Technique\n(AE
 RIAL SILKS)\n25 &amp\; 26.04.2026\n11 &amp\; 12.04.2026\n\n\n\n\n\n\n\nAka
 demia Akrobatyki Powietrznej\, Wrocław\, Poland\nIntensive weekend focusi
 ng on dynamics\, roll-ups\, windmills &amp\; sequence building with a Cirq
 ue du Soleil database artist.\nIf minimum capacity is not reached\, the wo
 rkshop will be cancelled with full refunds provided.\n\nSecure your spot e
 arly to help confirm the event!\n\n\n\n\n\n\n11\nAPRIL 2026\nSATURDAY\, 16
 :00-19:00\n\n3 hours\nDynamics &amp\; Technical Foundations\n\n\n300 PLN\n
 single day ticket\n\n\n\n\n12\nAPRIL 2026\nSUNDAY\, 10:00-13:00\n\n3 hours
 \nRoll-Ups\, Windmills &amp\; Sequences\n\n\n300 PLN\nsingle day ticket\n\
 n\n\n\n\nBEST VALUE — BOTH DAYS\n580 PLN\nSave 20 PLN by booking the ful
 l weekend\n\n\n\nMASTER DYNAMICS\, UNLOCK YOUR SILKS POTENTIAL\nTrain with
  an artist who has 12+ years in aerial silks and whose acts are in the Cir
 que du Soleil database — blending dynamics\, rope-inspired vocabulary\, 
 and personal creative style\n\n\n\n\nWORKSHOP STRUCTURE\nEach session buil
 ds progressively — from technical foundations to dynamic sequences — w
 ith groups adapted by level where needed.\nHanne's teaching draws on 8+ ye
 ars of workshop experience worldwide\, combining rigorous technique with a
  dynamic\, expressive style informed by rope\, straps\, and handstand disc
 iplines.\n\n\n\n\nWHAT WE'LL WORK ON\n\nDYNAMICS\nHanne's signature dynami
 c vocabulary — powerful\, clean\, and precise aerial movement with flow 
 and control\n\n\nROLL-UPS\nDifferent kinds of roll-ups explored in depth\,
  with attention to technique\, timing\, and body mechanics\n\n\nQUICK WIND
 MILLS &amp\; WHEEL DOWNS\nFast\, controlled descents and spinning elements
  — signature skills from Hanne's cross-disciplinary movement vocabulary\
 n\n\nCROSS-DISCIPLINE TRICKS\nTricks inspired by rope\, straps\, and hands
 tand — expanding your silks vocabulary beyond traditional moves\n\n\nLEV
 EL-ADAPTED GROUPS\nGroups can be formed based on participant levels — en
 suring meaningful challenge and progress for everyone\n\n\n\n\nMULTI-LEVEL
  WORKSHOP\nThis workshop is open to practitioners with solid foundational 
 silks experience. Groups can be formed based on level.\n\n\nMINIMUM REQUIR
 EMENTS\n• Climbing and inversing must be easy and comfortable\n• Basic
  knowledge in silks (at least 3 tricks)\n• Ready to explore dynamics and
  push your technique\n\nNot sure if you qualify? Reach out and we'll help 
 you decide!\n\n\n\n\nWHAT TO BRING\n\n 	Your own water bottle (stay hydrat
 ed!)\n 	Comfortable workout clothes suitable for aerial\n 	Notebook to wri
 te down exercises and key corrections\n 	Phone with storage space (to film
  and review your practice)\n 	Open mind and readiness to explore!\n\n\n\n\
 nHANNE COECKELBERGHS\n\nAerial Silks &amp\; Straps Specialist Artist\nBorn
  in Belgium in 1997\, Hanne started aerial silks at just 12 years old. Wha
 t began as a passion quickly became a vocation — leading her to pursue p
 rofessional circus training in The Netherlands and eventually to performin
 g and teaching worldwide.\n\n\nTraining &amp\; Education:\n\n 	2009: Start
 ed aerial silks at a youth circus school in Belgium\n 	2015–2019: The Ac
 ademy For Circus And Performance Art (The Netherlands)\n 	Training with ma
 ster teachers in aerial silks\, straps\, hand balancing\, floor acrobatics
 \, theatre\, dance\, trampoline\, and act development\n\n\n\nProfessional 
 Credentials:\n\n 	Graduated 2019 — professional circus artist specialisi
 ng in silks and straps\n 	Both silks and straps acts listed in the Cirque 
 du Soleil artist database\n 	17 years of aerial silks practice\, 8+ years 
 of teaching experience\n\n\n\nTeaching Worldwide:\n\n 	Spain\, Italy\, Bel
 gium\, The Netherlands\, Germany\, France\, Switzerland\n 	UK\, Canada\, C
 anary Islands\, Croatia\, Austria\, Poland\, Greece\n 	And now — Wrocła
 w!\n\n\nHanne's unique style fuses dynamics with vocabulary drawn from rop
 e\, straps\, and handstands — including self-created tricks — offering
  a rare cross-disciplinary perspective on aerial silks.\n\n\n\n\n\nREGISTE
 R NOW\nSaturday or Sunday — 300 PLN  |  Both days — 580 PLN\nLimited
  spaces — don't miss this!\n\n\n\n
ATTACH;FMTTYPE=image/jpeg:https://cyrkarium.com/wp-content/uploads/2026/02
 /DSC5241-scaled.jpg
CATEGORIES:aerial-silks
LOCATION:Akademia Akrobatyki Powietrznej\, Wrocław\, ul. Przedwiośnie 5A\
 , Wrocław\, 51-211\, Poland
GEO:51.161249;17.116793
X-APPLE-STRUCTURED-LOCATION;VALUE=URI;X-ADDRESS=ul. Przedwiośnie 5A\, Wroc
 ław\, 51-211\, Poland;X-APPLE-RADIUS=100;X-TITLE=Akademia Akrobatyki Powi
 etrznej\, Wrocław:geo:51.161249,17.116793
END:VEVENT
BEGIN:VTIMEZONE
TZID:Europe/Warsaw
X-LIC-LOCATION:Europe/Warsaw
BEGIN:DAYLIGHT
DTSTART:20260329T030000
TZOFFSETFROM:+0100
TZOFFSETTO:+0200
TZNAME:CEST
END:DAYLIGHT
END:VTIMEZONE
END:VCALENDAR