BEGIN:VCALENDAR
VERSION:2.0
PRODID:-//wp-events-plugin.com//7.2.3.1//EN
TZID:Europe/Warsaw
X-WR-TIMEZONE:Europe/Warsaw
BEGIN:VEVENT
UID:24@cyrkarium.com
DTSTART;TZID=Europe/Warsaw:20260523T150000
DTEND;TZID=Europe/Warsaw:20260524T150000
DTSTAMP:20260213T113944Z
URL:https://cyrkarium.com/events/katarina-sobinkovicova/
SUMMARY:Katarína Sobinkovičová
DESCRIPTION:\n\n\n\n\n\nFind Your Flow on the Hoop - Aerial Workshops\nwith
 \nKatarína Sobinkovičová\n23-24.05.2026\n\n\n\n\n\n\n\nAkademia Akrobat
 yki Powietrznej\, Wrocław\nAn intensive workshop blending technical explo
 ration with creative play\, offering exercises and practical tips to impro
 ve flow on aerial hoop.\n\nDiscover your unique movement language on the h
 oop!\n\n\n\n\n\n\n\n23\nMay 2026\nSaturday\n\n15:00 - 17:00\nBlock 1: Flow
  Technical Foundations\n\n\n17:30 - 19:30\nBlock 2: Exploring the Axis\n\n
 \n\n\n24\nMay 2026\nSunday\n\n10:00 - 12:00\nBlock 3: Developing Your Own 
 Movement Language\n\n\n12:30 - 14:30\nBlock 4: Improvisation &amp\; Creati
 ve Integration\n\n\n\n\n\n\nWORKSHOP PRICING\n\n\n\n\nSingle Block\n200\nP
 LN\n\nChoose any one block\n\n\n\n\nTwo Blocks\n380\nPLN\n\nPick any two b
 locks\nSave 20 PLN\n\n\n\n\nThree Blocks\n570\nPLN\n\nPick any three block
 s\nSave 30 PLN\n\n\n\n\nBEST VALUE\nAll Blocks\n750\nPLN\n\nComplete works
 hop package\nSave 50 PLN\n\n\n\nREGISTER NOW!\nPAYMENT DEADLINE: [23.04.20
 26]\n\n\n\nFIND YOUR FLOW\nFrom technical foundations to creative expressi
 on - learn practical tools for smooth transitions\, explore axis work\, de
 velop your personal movement language\, and unlock improvisation technique
 s with performer and choreographer Katarína Sobinkovičová\n\n\n\n\nBLOC
 K 1: FLOW TECHNICAL FOUNDATIONS\nSaturday\, 23.05.2026 | 15:00 - 17:00\nTh
 is block focuses on specific technical exercises that support ease\, effic
 iency\, balance and control in movement. The aim is to build strength\, st
 ability and confidence so movement feels smooth\, grounded\, and intention
 al.\n\n\n\n\nBLOCK 2: EXPLORING THE AXIS\nSaturday\, 23.05.2026 | 17:30 - 
 19:30\nIn this block\, we will learn a sequence through which we will expl
 ore different body positions and the hoop’s positions\, including those 
 out of axis. We will focus on how to move the hoop intentionally\, using i
 ts natural dynamics and how to connect these movements with your body to c
 reate smooth\, flowing sequences. The focus is on gaining flow within both
  your own movements and the movements of the apparatus\, making them feel 
 integrated.\n\n\n\n\nBLOCK 3: DEVELOPING YOUR OWN MOVEMENT LANGUAGE\nSunda
 y\, 24.05.2026 | 10:00 - 12:00\nThis block focus on discovering and refini
 ng your personal way of moving in the hoop. We will learn a sequence and e
 xplore it through different body positions\, subtle adjustments\, and vari
 ations in timing to see what feels most natural for you. Using guided prom
 pts\, we will experiment with how to adapt\, shape\, and express the seque
 nce according to our vision and body.\n\n\n\n\nBLOCK 4: IMPROVISATION &amp
 \; CREATIVE INTEGRATION\nSunday\, 24.05.2026 | 12:30 - 14:30\nThis block c
 enters on discovering and refining your personal way of moving in the hoop
 \, offering certain improvisation tools for building new materials or crea
 ting acts. Through guided prompts and specific exercises\, you will identi
 fy patterns\, preferences\, and qualities that feel authentic to you.\n\n\
 n\n\n\n\n\n\n\n\n\nKATARÍNA SOBINKOVIČOVÁ\nProfessional Performer &amp\
 ; Movement Choreographer\nKatarína Sobinkovičová\, currently working be
 tween Prague and Montreal\, is a professional performer and movement chore
 ographer. Her passion for movement began at an early age in artistic dance
  schools\, where she gained a solid foundation in contemporary dance. In 2
 023\, she graduated from the National Circus School in Montreal\, Canada\,
  specializing in aerial acrobatics and acro dance. She currently works as 
 a performer with various companies in Canada and Europe while also occasio
 nally directing and pursuing her own creative practice\, developing her ow
 n movement works.\n\n\n\nYour browser does not support the video tag.\n\n\
 n\n\n\nJOIN US IN WROCŁAW\n\n\n\n
ATTACH;FMTTYPE=image/jpeg:https://cyrkarium.com/wp-content/uploads/2026/02
 /foto-67.jpg
CATEGORIES:aerial-hoop
LOCATION:Akademia Akrobatyki Powietrznej\, Wrocław\, ul. Przedwiośnie 5A\
 , Wrocław\, 51-211\, Poland
GEO:51.161249;17.116793
X-APPLE-STRUCTURED-LOCATION;VALUE=URI;X-ADDRESS=ul. Przedwiośnie 5A\, Wroc
 ław\, 51-211\, Poland;X-APPLE-RADIUS=100;X-TITLE=Akademia Akrobatyki Powi
 etrznej\, Wrocław:geo:51.161249,17.116793
END:VEVENT
BEGIN:VTIMEZONE
TZID:Europe/Warsaw
X-LIC-LOCATION:Europe/Warsaw
BEGIN:DAYLIGHT
DTSTART:20260329T030000
TZOFFSETFROM:+0100
TZOFFSETTO:+0200
TZNAME:CEST
END:DAYLIGHT
END:VTIMEZONE
END:VCALENDAR